BEGIN:VCALENDAR
VERSION:2.0
PRODID:-//time.now/holidays//NONSGML v1.0//EN
BEGIN:VEVENT
UID:83026ed1-d988-4284-aa67-31fd1c7ea448
DTSTAMP:20260422T090338Z
DTSTART;VALUE=DATE:20260612
SUMMARY:Sovereign's Birthday (Îles Vierges britanniques)
END:VEVENT
END:VCALENDAR