BEGIN:VCALENDAR
VERSION:2.0
PRODID:-//time.now/holidays//NONSGML v1.0//EN
BEGIN:VEVENT
UID:392083f6-e342-4022-821f-1b19d4dbde37
DTSTAMP:20260420T213227Z
DTSTART;VALUE=DATE:20260101
SUMMARY:New Year's Day (Îles Vierges britanniques)
END:VEVENT
END:VCALENDAR