BEGIN:VCALENDAR
VERSION:2.0
PRODID:-//time.now/holidays//NONSGML v1.0//EN
BEGIN:VEVENT
UID:cf386404-012f-485a-84cb-4cdce6fbcbe5
DTSTAMP:20260420T172013Z
DTSTART;VALUE=DATE:20260804
SUMMARY:Emancipation Tuesday (Îles Vierges britanniques)
END:VEVENT
END:VCALENDAR