BEGIN:VCALENDAR
VERSION:2.0
PRODID:-//time.now/holidays//NONSGML v1.0//EN
BEGIN:VEVENT
UID:b69c80fe-4665-4a1a-be67-84dd4492c41c
DTSTAMP:20260420T124639Z
DTSTART;VALUE=DATE:20260406
SUMMARY:Easter Monday (Îles Vierges britanniques)
END:VEVENT
END:VCALENDAR