BEGIN:VCALENDAR
VERSION:2.0
PRODID:-//time.now/holidays//NONSGML v1.0//EN
BEGIN:VEVENT
UID:7ccff101-110d-4c4a-b008-e019c1d6684e
DTSTAMP:20260422T085822Z
DTSTART;VALUE=DATE:20260708
SUMMARY:Sergipe Political Emancipation Day (Brésil)
END:VEVENT
END:VCALENDAR