BEGIN:VCALENDAR
VERSION:2.0
PRODID:-//time.now/holidays//NONSGML v1.0//EN
BEGIN:VEVENT
UID:f6e2f6a0-524e-45e1-af23-010cbfe6952f
DTSTAMP:20260420T213813Z
DTSTART;VALUE=DATE:20260816
SUMMARY:Santa Catarina State Day (Brésil)
END:VEVENT
END:VCALENDAR