BEGIN:VCALENDAR
VERSION:2.0
PRODID:-//time.now/holidays//NONSGML v1.0//EN
BEGIN:VEVENT
UID:e8bf716b-2d97-4b34-bcda-a9e3e4381cf5
DTSTAMP:20260422T103942Z
DTSTART;VALUE=DATE:20261129
SUMMARY:Saint Catherine of Alexandria Day (Brésil)
END:VEVENT
END:VCALENDAR