BEGIN:VCALENDAR
VERSION:2.0
PRODID:-//time.now/holidays//NONSGML v1.0//EN
BEGIN:VEVENT
UID:b5bff481-b552-4533-980d-6d5577d416b6
DTSTAMP:20260420T213248Z
DTSTART;VALUE=DATE:20260807
SUMMARY:Rio Grande do Norte Day (Brésil)
END:VEVENT
END:VCALENDAR