BEGIN:VCALENDAR
VERSION:2.0
PRODID:-//time.now/holidays//NONSGML v1.0//EN
BEGIN:VEVENT
UID:afa8d846-0a74-4319-8356-aa419fa69c08
DTSTAMP:20260420T125106Z
DTSTART;VALUE=DATE:20261115
SUMMARY:Republic Proclamation Day (Brésil)
END:VEVENT
END:VCALENDAR