BEGIN:VCALENDAR
VERSION:2.0
PRODID:-//time.now/holidays//NONSGML v1.0//EN
BEGIN:VEVENT
UID:eedb0b92-c2fb-419c-b434-6e0c34d60baf
DTSTAMP:20260422T103916Z
DTSTART;VALUE=DATE:20261219
SUMMARY:Political Emancipation of Paraná (Brésil)
END:VEVENT
END:VCALENDAR