BEGIN:VCALENDAR
VERSION:2.0
PRODID:-//time.now/holidays//NONSGML v1.0//EN
BEGIN:VEVENT
UID:25f10043-01e9-4029-9186-cfbcc39031ad
DTSTAMP:20260420T230906Z
DTSTART;VALUE=DATE:20260413
SUMMARY:Our Lady of Penha (Brésil)
END:VEVENT
END:VCALENDAR