BEGIN:VCALENDAR
VERSION:2.0
PRODID:-//time.now/holidays//NONSGML v1.0//EN
BEGIN:VEVENT
UID:fbb16922-fa52-4e42-8592-66ce48dea655
DTSTAMP:20260420T072406Z
DTSTART;VALUE=DATE:20260907
SUMMARY:Independence Day (Brésil)
END:VEVENT
END:VCALENDAR