BEGIN:VCALENDAR
VERSION:2.0
PRODID:-//time.now/holidays//NONSGML v1.0//EN
BEGIN:VEVENT
UID:f0688b84-be98-4175-be27-2f8c330dce05
DTSTAMP:20260422T193226Z
DTSTART;VALUE=DATE:20260615
SUMMARY:Founding of Acre (Brésil)
END:VEVENT
END:VCALENDAR