BEGIN:VCALENDAR
VERSION:2.0
PRODID:-//time.now/holidays//NONSGML v1.0//EN
BEGIN:VEVENT
UID:055d1636-d79a-4b4c-9cc7-0456810f02a9
DTSTAMP:20260420T130905Z
DTSTART;VALUE=DATE:20260123
SUMMARY:Evangelical Day (Brésil)
END:VEVENT
END:VCALENDAR