BEGIN:VCALENDAR
VERSION:2.0
PRODID:-//time.now/holidays//NONSGML v1.0//EN
BEGIN:VEVENT
UID:02c7e330-b73e-4e35-9406-bbaa042bf3e6
DTSTAMP:20260420T192410Z
DTSTART;VALUE=DATE:20260702
SUMMARY:Bahia Independence Day (Brésil)
END:VEVENT
END:VCALENDAR