BEGIN:VCALENDAR
VERSION:2.0
PRODID:-//time.now/holidays//NONSGML v1.0//EN
BEGIN:VEVENT
UID:02ce6c1e-2f6e-4ad7-9386-88ce6c91e7c7
DTSTAMP:20260420T072801Z
DTSTART;VALUE=DATE:20260101
SUMMARY:New Year's Day (Botswana)
END:VEVENT
END:VCALENDAR