BEGIN:VCALENDAR
VERSION:2.0
PRODID:-//time.now/holidays//NONSGML v1.0//EN
BEGIN:VEVENT
UID:391b79ef-a377-49dd-a801-d83de307ada1
DTSTAMP:20260420T120424Z
DTSTART;VALUE=DATE:20340103
SUMMARY:New Year's Day (observed) (Botswana)
END:VEVENT
END:VCALENDAR