BEGIN:VCALENDAR
VERSION:2.0
PRODID:-//time.now/holidays//NONSGML v1.0//EN
BEGIN:VEVENT
UID:7e56f0cd-b28b-40e2-a427-601ad73484a1
DTSTAMP:20260420T203624Z
DTSTART;VALUE=DATE:20280103
SUMMARY:New Year's Day Holiday (observed) (Botswana)
END:VEVENT
END:VCALENDAR