BEGIN:VCALENDAR
VERSION:2.0
PRODID:-//time.now/holidays//NONSGML v1.0//EN
BEGIN:VEVENT
UID:ccb1a278-6dd3-4820-946f-9f5de429903c
DTSTAMP:20260420T092429Z
DTSTART;VALUE=DATE:20260404
SUMMARY:Holy Saturday (Botswana)
END:VEVENT
END:VCALENDAR