BEGIN:VCALENDAR
VERSION:2.0
PRODID:-//time.now/holidays//NONSGML v1.0//EN
BEGIN:VEVENT
UID:ed7f978f-60fb-4790-b183-0206180ae579
DTSTAMP:20260420T081510Z
DTSTART;VALUE=DATE:20331227
SUMMARY:Christmas Day (observed) (Botswana)
END:VEVENT
END:VCALENDAR