BEGIN:VCALENDAR
VERSION:2.0
PRODID:-//time.now/holidays//NONSGML v1.0//EN
BEGIN:VEVENT
UID:9bcff6a2-0140-4a57-8f78-7b7a15e9363e
DTSTAMP:20260420T123619Z
DTSTART;VALUE=DATE:20261228
SUMMARY:Boxing Day Holiday (Botswana)
END:VEVENT
END:VCALENDAR