BEGIN:VCALENDAR
VERSION:2.0
PRODID:-//time.now/holidays//NONSGML v1.0//EN
BEGIN:VEVENT
UID:a6827930-a1da-44fc-8662-23269e128041
DTSTAMP:20260420T075202Z
DTSTART;VALUE=DATE:20261001
SUMMARY:Botswana Day Holiday (Botswana)
END:VEVENT
END:VCALENDAR