BEGIN:VCALENDAR
VERSION:2.0
PRODID:-//time.now/holidays//NONSGML v1.0//EN
BEGIN:VEVENT
UID:bed92c08-07b3-4d89-9e94-ae8ac8d41740
DTSTAMP:20260420T035629Z
DTSTART;VALUE=DATE:20260514
SUMMARY:Ascension Day (Botswana)
END:VEVENT
END:VCALENDAR