BEGIN:VCALENDAR
VERSION:2.0
PRODID:-//time.now/holidays//NONSGML v1.0//EN
BEGIN:VEVENT
UID:4af467d9-5616-4955-b2e1-53fc82884b15
DTSTAMP:20260422T104039Z
DTSTART;VALUE=DATE:20261125
SUMMARY:Statehood Day (Bosnie-Herzégovine)
END:VEVENT
END:VCALENDAR