BEGIN:VCALENDAR
VERSION:2.0
PRODID:-//time.now/holidays//NONSGML v1.0//EN
BEGIN:VEVENT
UID:26c877d9-e6a7-453a-9464-cd62118b4c11
DTSTAMP:20260422T121443Z
DTSTART;VALUE=DATE:20260413
SUMMARY:Orthodox Easter Monday (Bosnie-Herzégovine)
END:VEVENT
END:VCALENDAR