BEGIN:VCALENDAR
VERSION:2.0
PRODID:-//time.now/holidays//NONSGML v1.0//EN
BEGIN:VEVENT
UID:c39c7e00-3509-4ae7-997c-b2277c0ab2b5
DTSTAMP:20260422T121304Z
DTSTART;VALUE=DATE:20260106
SUMMARY:Orthodox Christmas Eve (Bosnie-Herzégovine)
END:VEVENT
END:VCALENDAR