BEGIN:VCALENDAR
VERSION:2.0
PRODID:-//time.now/holidays//NONSGML v1.0//EN
BEGIN:VEVENT
UID:bff66ca7-0eac-47ec-8cc8-ef99a58b0111
DTSTAMP:20260422T121304Z
DTSTART;VALUE=DATE:20280103
SUMMARY:New Year's Day (observed) (Bosnie-Herzégovine)
END:VEVENT
END:VCALENDAR