BEGIN:VCALENDAR
VERSION:2.0
PRODID:-//time.now/holidays//NONSGML v1.0//EN
BEGIN:VEVENT
UID:ba171e8a-bcdf-4cd0-b0dc-453f34ed0cb2
DTSTAMP:20260422T121303Z
DTSTART;VALUE=DATE:20270502
SUMMARY:International Labor Day; Orthodox Easter Sunday (Bosnie-Herzégovine)
END:VEVENT
END:VCALENDAR