BEGIN:VCALENDAR
VERSION:2.0
PRODID:-//time.now/holidays//NONSGML v1.0//EN
BEGIN:VEVENT
UID:6a982620-0fa0-40e9-9d57-a3faac9a6483
DTSTAMP:20260422T121305Z
DTSTART;VALUE=DATE:20240410
SUMMARY:Eid al-Fitr (Bosnie-Herzégovine)
END:VEVENT
END:VCALENDAR