BEGIN:VCALENDAR
VERSION:2.0
PRODID:-//time.now/holidays//NONSGML v1.0//EN
BEGIN:VEVENT
UID:89a87c1a-4505-4b8d-9dd9-59ee15ca402c
DTSTAMP:20260422T121303Z
DTSTART;VALUE=DATE:20220502
SUMMARY:Eid al-Fitr; International Labor Day (Bosnie-Herzégovine)
END:VEVENT
END:VCALENDAR