BEGIN:VCALENDAR
VERSION:2.0
PRODID:-//time.now/holidays//NONSGML v1.0//EN
BEGIN:VEVENT
UID:8c82cc39-ce8b-433e-bdb0-b868dbcca492
DTSTAMP:20260422T103915Z
DTSTART;VALUE=DATE:20260527
SUMMARY:Eid al-Adha (estimated) (Bosnie-Herzégovine)
END:VEVENT
END:VCALENDAR