BEGIN:VCALENDAR
VERSION:2.0
PRODID:-//time.now/holidays//NONSGML v1.0//EN
BEGIN:VEVENT
UID:abc107e2-6468-42d0-8d4a-c165c6b90a82
DTSTAMP:20260422T105120Z
DTSTART;VALUE=DATE:20261225
SUMMARY:Catholic Christmas Day (Bosnie-Herzégovine)
END:VEVENT
END:VCALENDAR