BEGIN:VCALENDAR
VERSION:2.0
PRODID:-//time.now/holidays//NONSGML v1.0//EN
BEGIN:VEVENT
UID:f7b34537-e898-4150-9e38-5e032425452f
DTSTAMP:20260420T090708Z
DTSTART;VALUE=DATE:20261017
SUMMARY:National Dignity Day (Bolivie)
END:VEVENT
END:VCALENDAR