BEGIN:VCALENDAR
VERSION:2.0
PRODID:-//time.now/holidays//NONSGML v1.0//EN
BEGIN:VEVENT
UID:374792fd-b86e-4759-b161-e64cf5b378d3
DTSTAMP:20260420T090450Z
DTSTART;VALUE=DATE:20330502
SUMMARY:Labor Day (observed) (Bolivie)
END:VEVENT
END:VCALENDAR