BEGIN:VCALENDAR
VERSION:2.0
PRODID:-//time.now/holidays//NONSGML v1.0//EN
BEGIN:VEVENT
UID:5bf56f5e-3a56-4b87-9042-af54046cef46
DTSTAMP:20260420T103059Z
DTSTART;VALUE=DATE:20260101
SUMMARY:New Year's Day (Bermudes)
END:VEVENT
END:VCALENDAR