BEGIN:VCALENDAR
VERSION:2.0
PRODID:-//time.now/holidays//NONSGML v1.0//EN
BEGIN:VEVENT
UID:ed6073a9-68d5-46dd-81d7-b8acf3e3e6fb
DTSTAMP:20260420T014744Z
DTSTART;VALUE=DATE:20260403
SUMMARY:Good Friday (Bermudes)
END:VEVENT
END:VCALENDAR