BEGIN:VCALENDAR
VERSION:2.0
PRODID:-//time.now/holidays//NONSGML v1.0//EN
BEGIN:VEVENT
UID:9937cba0-33cc-4e13-a923-2bc453192367
DTSTAMP:20260420T130601Z
DTSTART;VALUE=DATE:20261225
SUMMARY:Christmas Day (Bermudes)
END:VEVENT
END:VCALENDAR