BEGIN:VCALENDAR
VERSION:2.0
PRODID:-//time.now/holidays//NONSGML v1.0//EN
BEGIN:VEVENT
UID:e42dae95-be34-4aec-906d-8c9e270ec462
DTSTAMP:20260420T134119Z
DTSTART;VALUE=DATE:20271227
SUMMARY:Christmas Day (observed) (Bermudes)
END:VEVENT
END:VCALENDAR