BEGIN:VCALENDAR
VERSION:2.0
PRODID:-//time.now/holidays//NONSGML v1.0//EN
BEGIN:VEVENT
UID:6ffdc6c1-2f1e-416f-a628-3084100f4efe
DTSTAMP:20260420T170736Z
DTSTART;VALUE=DATE:20260825
SUMMARY:Prophet's Birthday (estimated) (Bénin)
END:VEVENT
END:VCALENDAR