BEGIN:VCALENDAR
VERSION:2.0
PRODID:-//time.now/holidays//NONSGML v1.0//EN
BEGIN:VEVENT
UID:3d9d0729-4848-4d6a-88ff-528b760a497e
DTSTAMP:20260420T202924Z
DTSTART;VALUE=DATE:20260320
SUMMARY:Eid al-Fitr (estimated) (Bénin)
END:VEVENT
END:VCALENDAR