BEGIN:VCALENDAR
VERSION:2.0
PRODID:-//time.now/holidays//NONSGML v1.0//EN
BEGIN:VEVENT
UID:766f60a9-9df1-4e5f-9a79-9a86d3250dbd
DTSTAMP:20260420T153927Z
DTSTART;VALUE=DATE:20260527
SUMMARY:Eid al-Adha (estimated) (Bénin)
END:VEVENT
END:VCALENDAR