BEGIN:VCALENDAR
VERSION:2.0
PRODID:-//time.now/holidays//NONSGML v1.0//EN
BEGIN:VEVENT
UID:54d7add8-697a-42b3-b3a8-146a463d675e
DTSTAMP:20260419T125140Z
DTSTART;VALUE=DATE:20260406
SUMMARY:Easter Monday (Bénin)
END:VEVENT
END:VCALENDAR