BEGIN:VCALENDAR
VERSION:2.0
PRODID:-//time.now/holidays//NONSGML v1.0//EN
BEGIN:VEVENT
UID:7df56fd8-8938-40b1-a418-ca5ecdbd4497
DTSTAMP:20260420T174507Z
DTSTART;VALUE=DATE:20261101
SUMMARY:All Saints' Day (Bénin)
END:VEVENT
END:VCALENDAR