BEGIN:VCALENDAR
VERSION:2.0
PRODID:-//time.now/holidays//NONSGML v1.0//EN
BEGIN:VEVENT
UID:f76aa9b0-0e8f-4bba-8ae9-79bd619e25fb
DTSTAMP:20260420T072651Z
DTSTART;VALUE=DATE:20260101
SUMMARY:New Year's Day (Belize)
END:VEVENT
END:VCALENDAR