BEGIN:VCALENDAR
VERSION:2.0
PRODID:-//time.now/holidays//NONSGML v1.0//EN
BEGIN:VEVENT
UID:49ef9b48-1f00-482c-95d7-75109ea24530
DTSTAMP:20260419T234516Z
DTSTART;VALUE=DATE:20260501
SUMMARY:Labour Day (Belize)
END:VEVENT
END:VCALENDAR