BEGIN:VCALENDAR
VERSION:2.0
PRODID:-//time.now/holidays//NONSGML v1.0//EN
BEGIN:VEVENT
UID:303aaad1-ea73-4cea-8175-61afc7bc67ca
DTSTAMP:20260420T023935Z
DTSTART;VALUE=DATE:20330502
SUMMARY:Labour Day (observed) (Belize)
END:VEVENT
END:VCALENDAR