BEGIN:VCALENDAR
VERSION:2.0
PRODID:-//time.now/holidays//NONSGML v1.0//EN
BEGIN:VEVENT
UID:e1184a6a-1746-45e2-94cf-3722acf1c084
DTSTAMP:20260419T222857Z
DTSTART;VALUE=DATE:20260403
SUMMARY:Good Friday (Belize)
END:VEVENT
END:VCALENDAR