BEGIN:VCALENDAR
VERSION:2.0
PRODID:-//time.now/holidays//NONSGML v1.0//EN
BEGIN:VEVENT
UID:28e874ad-3cbf-4940-bd00-2431a508f9e8
DTSTAMP:20260420T192455Z
DTSTART;VALUE=DATE:20340116
SUMMARY:George Price Day (observed) (Belize)
END:VEVENT
END:VCALENDAR