BEGIN:VCALENDAR
VERSION:2.0
PRODID:-//time.now/holidays//NONSGML v1.0//EN
BEGIN:VEVENT
UID:c58ee188-c3f7-4e74-9e89-9b754a074ebf
DTSTAMP:20260419T190830Z
DTSTART;VALUE=DATE:20260406
SUMMARY:Easter Monday (Belize)
END:VEVENT
END:VCALENDAR