BEGIN:VCALENDAR
VERSION:2.0
PRODID:-//time.now/holidays//NONSGML v1.0//EN
BEGIN:VEVENT
UID:6c4e691e-a4fd-41ba-9631-b42deaf5e743
DTSTAMP:20260420T031018Z
DTSTART;VALUE=DATE:20261226
SUMMARY:Boxing Day (Belize)
END:VEVENT
END:VCALENDAR